BEGIN:VCALENDAR
VERSION:2.0
PRODID:-//Whittier SDA Church - ECPv6.15.20//NONSGML v1.0//EN
CALSCALE:GREGORIAN
METHOD:PUBLISH
X-ORIGINAL-URL:https://www.whittiersdachurch.org
X-WR-CALDESC:Events for Whittier SDA Church
REFRESH-INTERVAL;VALUE=DURATION:PT1H
X-Robots-Tag:noindex
X-PUBLISHED-TTL:PT1H
BEGIN:VTIMEZONE
TZID:America/Los_Angeles
BEGIN:DAYLIGHT
TZOFFSETFROM:-0800
TZOFFSETTO:-0700
TZNAME:PDT
DTSTART:20250309T100000
END:DAYLIGHT
BEGIN:STANDARD
TZOFFSETFROM:-0700
TZOFFSETTO:-0800
TZNAME:PST
DTSTART:20251102T090000
END:STANDARD
BEGIN:DAYLIGHT
TZOFFSETFROM:-0800
TZOFFSETTO:-0700
TZNAME:PDT
DTSTART:20260308T100000
END:DAYLIGHT
BEGIN:STANDARD
TZOFFSETFROM:-0700
TZOFFSETTO:-0800
TZNAME:PST
DTSTART:20261101T090000
END:STANDARD
BEGIN:DAYLIGHT
TZOFFSETFROM:-0800
TZOFFSETTO:-0700
TZNAME:PDT
DTSTART:20270314T100000
END:DAYLIGHT
BEGIN:STANDARD
TZOFFSETFROM:-0700
TZOFFSETTO:-0800
TZNAME:PST
DTSTART:20271107T090000
END:STANDARD
END:VTIMEZONE
BEGIN:VEVENT
DTSTART;TZID=America/Los_Angeles:20260501T183000
DTEND;TZID=America/Los_Angeles:20260501T203000
DTSTAMP:20260419T191642
CREATED:20240707T015635Z
LAST-MODIFIED:20240707T015635Z
UID:10003208-1777660200-1777667400@www.whittiersdachurch.org
SUMMARY:Teen Night - Youth Vespers
DESCRIPTION:Youth group gathers every 1st and 3rd of the month to worship\, talk about faith and life. If you’re looking for community to do the Christian life with\, this is the space for you.
URL:https://www.whittiersdachurch.org/event/teen-night-youth-vespers/2026-05-01/
CATEGORIES:Youth
ATTACH;FMTTYPE=image/jpeg:https://www.whittiersdachurch.org/wp-content/uploads/Teen-Night-general-3.jpg
ORGANIZER;CN="Lewston Morris":MAILTO:lewstonmorris@gmail.com
END:VEVENT
END:VCALENDAR