BEGIN:VCALENDAR
VERSION:2.0
PRODID:-//Whittier SDA Church - ECPv6.15.20//NONSGML v1.0//EN
CALSCALE:GREGORIAN
METHOD:PUBLISH
X-ORIGINAL-URL:https://www.whittiersdachurch.org
X-WR-CALDESC:Events for Whittier SDA Church
REFRESH-INTERVAL;VALUE=DURATION:PT1H
X-Robots-Tag:noindex
X-PUBLISHED-TTL:PT1H
BEGIN:VTIMEZONE
TZID:America/Los_Angeles
BEGIN:DAYLIGHT
TZOFFSETFROM:-0800
TZOFFSETTO:-0700
TZNAME:PDT
DTSTART:20250309T100000
END:DAYLIGHT
BEGIN:STANDARD
TZOFFSETFROM:-0700
TZOFFSETTO:-0800
TZNAME:PST
DTSTART:20251102T090000
END:STANDARD
BEGIN:DAYLIGHT
TZOFFSETFROM:-0800
TZOFFSETTO:-0700
TZNAME:PDT
DTSTART:20260308T100000
END:DAYLIGHT
BEGIN:STANDARD
TZOFFSETFROM:-0700
TZOFFSETTO:-0800
TZNAME:PST
DTSTART:20261101T090000
END:STANDARD
BEGIN:DAYLIGHT
TZOFFSETFROM:-0800
TZOFFSETTO:-0700
TZNAME:PDT
DTSTART:20270314T100000
END:DAYLIGHT
BEGIN:STANDARD
TZOFFSETFROM:-0700
TZOFFSETTO:-0800
TZNAME:PST
DTSTART:20271107T090000
END:STANDARD
END:VTIMEZONE
BEGIN:VEVENT
DTSTART;TZID=America/Los_Angeles:20260502T140000
DTEND;TZID=America/Los_Angeles:20260502T160000
DTSTAMP:20260419T210553
CREATED:20240222T042023Z
LAST-MODIFIED:20240222T042023Z
UID:10001706-1777730400-1777737600@www.whittiersdachurch.org
SUMMARY:Adventurers – Club Meeting
DESCRIPTION:Adventurers  is for kids ages 4-9. Kids and parents/guardians strengthen their relationship by participating in activities ranging from games\, outdoor activities ( e.g. nature exploration\, family camping) field trips\, and community service projects. The dedicated leaders nurture the children’s understanding of their relationship to God and others. \nClub Meetings are held every 1st & 3rd Sabbath. \nIf you have kids that are 4 – 9 years old/in TK thru 4th grade\, we’d love for them to join the club.
URL:https://www.whittiersdachurch.org/event/adventurers-club-meeting/2026-05-02/
LOCATION:Whittier SDA Church\, 8841 Calmada Ave.\, Whittier\, CA\, 90605\, United States
CATEGORIES:Kids
ATTACH;FMTTYPE=image/jpeg:https://www.whittiersdachurch.org/wp-content/uploads/Sliders_adventurer-3.jpg
END:VEVENT
BEGIN:VEVENT
DTSTART;TZID=America/Los_Angeles:20260502T140000
DTEND;TZID=America/Los_Angeles:20260502T160000
DTSTAMP:20260419T210553
CREATED:20241005T065240Z
LAST-MODIFIED:20250320T160103Z
UID:10001766-1777730400-1777737600@www.whittiersdachurch.org
SUMMARY:Pathfinder Club Meeting
DESCRIPTION:Every 1st & 3rd Sabbath from 2 – 4 pm\nLocation: Pathfinder Room (room to the right of the swings)\nFor 5th Grade and up. Teen Leadership Track is for high school students (grades 9 – 12) \nIf you would like to join the club as a Pathfinder\, teen leader\, or volunteer staff member\, contact:\nNancy Turcios: (213)215-2823\nRobert Turcios:(562)746-5031
URL:https://www.whittiersdachurch.org/event/pathfinder-club-meeting-3/2026-05-02/
LOCATION:Whittier SDA Church\, 8841 Calmada Ave.\, Whittier\, CA\, 90605\, United States
CATEGORIES:Pathfinders,Youth
ATTACH;FMTTYPE=image/jpeg:https://www.whittiersdachurch.org/wp-content/uploads/arm_pathfinderinsurance_iad.jpg
END:VEVENT
END:VCALENDAR