BEGIN:VCALENDAR
VERSION:2.0
PRODID:-//Whittier SDA Church - ECPv6.15.20//NONSGML v1.0//EN
CALSCALE:GREGORIAN
METHOD:PUBLISH
X-ORIGINAL-URL:https://www.whittiersdachurch.org
X-WR-CALDESC:Events for Whittier SDA Church
REFRESH-INTERVAL;VALUE=DURATION:PT1H
X-Robots-Tag:noindex
X-PUBLISHED-TTL:PT1H
BEGIN:VTIMEZONE
TZID:America/Los_Angeles
BEGIN:DAYLIGHT
TZOFFSETFROM:-0800
TZOFFSETTO:-0700
TZNAME:PDT
DTSTART:20250309T100000
END:DAYLIGHT
BEGIN:STANDARD
TZOFFSETFROM:-0700
TZOFFSETTO:-0800
TZNAME:PST
DTSTART:20251102T090000
END:STANDARD
BEGIN:DAYLIGHT
TZOFFSETFROM:-0800
TZOFFSETTO:-0700
TZNAME:PDT
DTSTART:20260308T100000
END:DAYLIGHT
BEGIN:STANDARD
TZOFFSETFROM:-0700
TZOFFSETTO:-0800
TZNAME:PST
DTSTART:20261101T090000
END:STANDARD
BEGIN:DAYLIGHT
TZOFFSETFROM:-0800
TZOFFSETTO:-0700
TZNAME:PDT
DTSTART:20270314T100000
END:DAYLIGHT
BEGIN:STANDARD
TZOFFSETFROM:-0700
TZOFFSETTO:-0800
TZNAME:PST
DTSTART:20271107T090000
END:STANDARD
BEGIN:DAYLIGHT
TZOFFSETFROM:-0800
TZOFFSETTO:-0700
TZNAME:PDT
DTSTART:20280312T100000
END:DAYLIGHT
BEGIN:STANDARD
TZOFFSETFROM:-0700
TZOFFSETTO:-0800
TZNAME:PST
DTSTART:20281105T090000
END:STANDARD
END:VTIMEZONE
BEGIN:VEVENT
DTSTART;TZID=America/Los_Angeles:20260418T140000
DTEND;TZID=America/Los_Angeles:20260418T160000
DTSTAMP:20260419T175039
CREATED:20240222T042549Z
LAST-MODIFIED:20240222T042549Z
UID:10002005-1776520800-1776528000@www.whittiersdachurch.org
SUMMARY:Pathfinder Club Meeting
DESCRIPTION:Every 1st & 3rd Sabbath from 2 – 4 pm\nLocation: Pathfinder Room (room to the right of the swings)\nFor 5th Grade and up. Teen Leadership Track is for high school students (grades 9 – 12) \nAdditional info on the Pathfinder Ministry.\nIf you would like to join the club as a Pathfinder\, teen leader\, or volunteer staff member\, contact:\nNancy Turcios: (213)215-2823\nRobert Turcios:(562)746-5031
URL:https://www.whittiersdachurch.org/event/pathfinder-club-meeting-2/2026-04-18/
LOCATION:Whittier SDA Church\, 8841 Calmada Ave.\, Whittier\, CA\, 90605\, United States
CATEGORIES:Youth
ATTACH;FMTTYPE=image/jpeg:https://www.whittiersdachurch.org/wp-content/uploads/arm_pathfinderinsurance_iad.jpg
END:VEVENT
BEGIN:VEVENT
DTSTART;TZID=America/Los_Angeles:20260425T150000
DTEND;TZID=America/Los_Angeles:20260425T170000
DTSTAMP:20260419T175039
CREATED:20240429T172139Z
LAST-MODIFIED:20250214T153133Z
UID:10000422-1777129200-1777136400@www.whittiersdachurch.org
SUMMARY:Food Pantry Open
DESCRIPTION:Whittier Adventist Community Services Food Pantry is open every 2nd & 4th Saturday of the month from 3 to 5 PM. Choose from a variety of free foods and other items to take home. Children’s toys and diapers are also available while supplies last. Bring carts or bags if you have them. No ID or pre-registration is required. All are welcome! \nFor more information:  Email – whittierfoodbank@gmail.com    Call or Text: (562)758-2108 \nServicios Comunitarios Adventistas de Whittier les ofrece un evento especial de distribución de alimentos cada segundo y quarto sábado del mes. \nPuede elegir de una variedad de alimentos gratis para llevar a casa. Juguetes para niños y pañales para bebés (Tallas 2 – 6\, XL) Disponible mientras duren las reservas. \nTraiga carritos o bolsas si los tiene. No se requiere identificación. Todos son bienvenidos! \nPara más información: Correo electrónico: whittierfoodbank@gmail.com\nLlamada o mensaje de texto: (562) 758-2108
URL:https://www.whittiersdachurch.org/event/food-pantry-open-2-2/2026-04-25/
CATEGORIES:Adventist Community Services
ATTACH;FMTTYPE=image/png:https://www.whittiersdachurch.org/wp-content/uploads/Whittier-ACS-Food-Pantry-English.png
END:VEVENT
BEGIN:VEVENT
DTSTART;VALUE=DATE:20261126
DTEND;VALUE=DATE:20261127
DTSTAMP:20260419T175039
CREATED:20241020T011004Z
LAST-MODIFIED:20241020T011137Z
UID:10003492-1795651200-1795737599@www.whittiersdachurch.org
SUMMARY:Thanksgiving
DESCRIPTION:We are thankful to God for His many blessings.  “Give thanks to the Lord\, for he is good; his love endures forever”. 1 Chronicles 16:34
URL:https://www.whittiersdachurch.org/event/thanksgiving/2026-11-26/
ATTACH;FMTTYPE=image/jpeg:https://www.whittiersdachurch.org/wp-content/uploads/happy-thanksgiving.jpg
END:VEVENT
BEGIN:VEVENT
DTSTART;VALUE=DATE:20270118
DTEND;VALUE=DATE:20270119
DTSTAMP:20260419T175039
CREATED:20250117T074853Z
LAST-MODIFIED:20250117T074930Z
UID:10003800-1800230400-1800316799@www.whittiersdachurch.org
SUMMARY:Martin Luther King Jr. - Day of Service
DESCRIPTION:
URL:https://www.whittiersdachurch.org/event/martin-luther-king-jr-day-of-service/2027-01-18/
ATTACH;FMTTYPE=image/jpeg:https://www.whittiersdachurch.org/wp-content/uploads/mlk-service-day.jpg
END:VEVENT
END:VCALENDAR